Workbook
Name BudgetCategory: '[1]Drop Down List Text'!$J$2:$J$10
Name Capacity1: '[1]Grant Activities Outline'!$B$27
Name Capacity10: '[1]Grant Activities Outline'!$B$468
Name Capacity11: '[1]Grant Activities Outline'!$B$517
Name Capacity12: '[1]Grant Activities Outline'!$B$566
Name Capacity13: '[1]Grant Activities Outline'!$B$615
Name Capacity14: '[1]Grant Activities Outline'!$B$664
Name Capacity15: '[1]Grant Activities Outline'!$B$713
Name Capacity16: '[1]Grant Activities Outline'!$B$762
Name Capacity17: '[1]Grant Activities Outline'!$B$811
Name Capacity18: '[1]Grant Activities Outline'!$B$860
Name Capacity19: '[1]Grant Activities Outline'!$B$909
Name Capacity2: '[1]Grant Activities Outline'!$B$76
Name Capacity20: '[1]Grant Activities Outline'!$B$958
Name Capacity21: '[1]Grant Activities Outline'!$B$1007
Name Capacity22: '[1]Grant Activities Outline'!$B$1056
Name Capacity23: '[1]Grant Activities Outline'!$B$1105
Name Capacity24: '[1]Grant Activities Outline'!$B$1154
Name Capacity25: '[1]Grant Activities Outline'!$B$1203
Name Capacity26: '[1]Grant Activities Outline'!$B$1252
Name Capacity27: '[1]Grant Activities Outline'!$B$1301
Name Capacity28: '[1]Grant Activities Outline'!$B$1350
Name Capacity29: '[1]Grant Activities Outline'!$B$1399
Name Capacity3: '[1]Grant Activities Outline'!$B$125
Name Capacity30: '[1]Grant Activities Outline'!$B$1448
Name Capacity31: '[1]Grant Activities Outline'!$B$1497
Name Capacity32: '[1]Grant Activities Outline'!$B$1546
Name Capacity33: '[1]Grant Activities Outline'!$B$1595
Name Capacity34: '[1]Grant Activities Outline'!$B$1644
Name Capacity35: '[1]Grant Activities Outline'!$B$1693
Name Capacity36: '[1]Grant Activities Outline'!$B$1742
Name Capacity37: '[1]Grant Activities Outline'!$B$1791
Name Capacity38: '[1]Grant Activities Outline'!$B$1840
Name Capacity39: '[1]Grant Activities Outline'!$B$1889
Name Capacity4: '[1]Grant Activities Outline'!$B$174
Name Capacity40: '[1]Grant Activities Outline'!$B$1938
Name Capacity41: '[1]Grant Activities Outline'!$B$1987
Name Capacity42: '[1]Grant Activities Outline'!$B$2036
Name Capacity43: '[1]Grant Activities Outline'!$B$2085
Name Capacity44: '[1]Grant Activities Outline'!$B$2134
Name Capacity45: '[1]Grant Activities Outline'!$B$2183
Name Capacity46: '[1]Grant Activities Outline'!$B$2232
Name Capacity47: '[1]Grant Activities Outline'!$B$2281
Name Capacity48: '[1]Grant Activities Outline'!$B$2330
Name Capacity49: '[1]Grant Activities Outline'!$B$2379
Name Capacity5: '[1]Grant Activities Outline'!$B$223
Name Capacity50: '[1]Grant Activities Outline'!$B$2428
Name Capacity51: '[1]Grant Activities Outline'!$B$2477
Name Capacity52: '[1]Grant Activities Outline'!$B$2526
Name Capacity53: '[1]Grant Activities Outline'!$B$2575
Name Capacity54: '[1]Grant Activities Outline'!$B$2624
Name Capacity55: '[1]Grant Activities Outline'!$B$2673
Name Capacity56: '[1]Grant Activities Outline'!$B$2722
Name Capacity57: '[1]Grant Activities Outline'!$B$2771
Name Capacity58: '[1]Grant Activities Outline'!$B$2820
Name Capacity59: '[1]Grant Activities Outline'!$B$2869
Name Capacity6: '[1]Grant Activities Outline'!$B$272
Name Capacity60: '[1]Grant Activities Outline'!$B$2918
Name Capacity61: '[1]Grant Activities Outline'!$B$2967
Name Capacity62: '[1]Grant Activities Outline'!$B$3016

Sheet Guidance
A1: New Mexico FY 2022 SLCGP Sub-Recipient Project Worksheet Guidance
A2: Complete rows 3-10 with the organization's information.
A3: Organization Name
A4: POC Name:
A5: POC Title:
A6: Organization Address:
A7: POC Phone Number:
A8: POC Email Address:
A9: Employer Identification No. (EIN):
A10: Unique Entity Identifier (UEI):
A11: The table below provides a brief overview of the two tabs in the SLCGP Project Worksheet.
A12: Worksheet | C12: Column | E12: Guidance | G12: Purpose
A13: Baseline Project Information | C13: This tab requires the applicant to provide: A) Eligible Applicant (Local, County, Tribal) Name; B) Investment (SLCGP Objective) C) FY 2022 SLCGP Project(s) Name; D) FY 2022 SLCGP Project(s) Alignment to 16 Required Cybersecurity Elements; E) FY 2022 SLCGP Project Description; F) Project Location (Zip Code); G) Primary Core Capability; H) Sustain or Build; I-N) POETE; O) Federal Amount; P) Cost Share; Q) Total Project Costs | E13: Column B: Investment names have been pre-populated with the SLCGP program objectives that correspond with the five (5) projects approved by the New Mexico Cybersecurity Planning Committee as part of the FY 2022 SLCGP and included in the State of New Mexico Cybersecurity Plan approved by the U.S. Cybersecurity and Infrastructure Security Agency (CISA). Column C: Project names have been pre-populated to reflect the five (5) projects approved by the NM Planning Committee as part of the FY 2022 SLCGP and included in the NM Cybersecurity Plan approved by CISA. Column G: The Primary Core Capability of each project will be, and has been prepopulated with, "Cybersecurity." Column P: For the FY 2022 SLCGP, a Cost Share Waiver was approved by the Federal Emergency Management Agency (FEMA) so NO Cost Share is required. (Column P is pre-populated at $0 for each potential project accordingly.) Column Q: Data is populated throughout the tabs for reference of how to complete form. Ensure all formulas and totals are aligned under Total Project Costs. Management and Administrative (M&A) funding must be included in the PW. Up to 5% of the Subaward Amount can be retained for M&A purposes. | G13: Project Information
A14: Project Implementation | C14: This worksheet requires outlining key project activities and tasks associated with each project identified in the IJ. For application, the estimated start and completion dates (by calendar quarter) should be included on the schedule. This sheet should also be used for quarterly reporting on grant activities. For progress reporting purposes, the actual start and completion dates (by calendar quarter) should be included on the schedule. | G14: Project Implementation
A15: CONFIDENTIALITY As some of the information you provide in your SLCGP Investment Justification (IJ) will inherently include administrative or technical information which, if disclosed would jeopardize computer security, portions of this application are deemed confidential and exempt from Inspection of Public Record (IPRA).

Sheet Baseline Project Information
A1: Eligible Applicant (Local, County, Tribal) Name | B1: Investment (SLCGP Program Objective) | C1: FY 2022 SLCGP Project(s) Name | D1: FY 2022 SLCGP Project(s) Alignment to 16 Required Cybersecurity Elements | E1: FY 2022 SLCGP Project Description | F1: Project Location (ZIP Code) | G1: Primary Core Capability | H1: Sustain or Build | I1: Planning | J1: Organization | K1: Equipment | L1: Training | M1: Exercises | N1: POETE Subtotal | O1: Subaward Amount (whole dollars only) | P1: Cost Share (whole dollars only)* | Q1: Total Project Costs (Subaward + Cost Share) (whole dollars only)
B2: Objective 1: Governance and Planning | C2: Cybersecurity Governance and Planning | G2: Cybersecurity | N2: =SUM(I2:M2) -> 0 | P2: 0 | Q2: =SUM(O2:P2) -> 0
B3: Objective 2: Assessment and Evaluation | C3: Cybersecurity Risk Assessments | G3: Cybersecurity | N3: =SUM(I3:M3) -> 0 | P3: 0 | Q3: =SUM(O3:P3) -> 0
B4: Objective 2: Assessment and Evaluation | C4: Vulnerability and Attack Surface Management | G4: Cybersecurity | N4: =SUM(I4:M4) -> 0 | P4: 0 | Q4: =SUM(O4:P4) -> 0
B5: Objective 4: Workforce Development | C5: Cybersecurity Training | G5: Cybersecurity | N5: =SUM(I5:M5) -> 0 | P5: 0 | Q5: =SUM(O5:P5) -> 0
B6: Objective 4: Workforce Development | C6: Cybersecurity Workforce Development Planning | G6: Cybersecurity | N6: =SUM(I6:M6) -> 0 | P6: 0 | Q6: =SUM(O6:P6) -> 0
B7: Management and Administration (M&A) (Up to 5% of the Subaward Amount) | C7: Management and Administration (M&A) | G7: Cybersecurity | N7: =SUM(I7:M7) -> 0 | P7: 0 | Q7: =SUM(O7:P7) -> 0
O9: =SUM(O2:O8) -> 0 | P9: =SUM(P2:P8) -> 0 | Q9: =SUM(Q1:Q7) -> 0
O11: *For the FY 2022 SLCGP, Cost Share has been waived by FEMA.

Sheet Project Implementation
A1: Eligible Applicant (Local, County, Tribal) Name | B1: FY 2022 SLCGP Project(s) Name | C1: FY 2022 SLCGP Project Description | D1: Project Management Step | E1: Start Date | F1: End Date | G1: Subaward Amount (whole dollars only) | H1: Cost Share (whole dollars only) | I1: Total Project Costs (Subaward + Cost Share) (whole dollars only)
B2: Cybersecurity Governance and Planning | G2: ='Baseline Project Information'!O2 -> 0 | H2: ='Baseline Project Information'!P2 -> 0 | I2: =SUM(G2,H2) -> 0
B3: Cybersecurity Risk Assessments | G3: ='Baseline Project Information'!O3 -> 0 | H3: ='Baseline Project Information'!P3 -> 0 | I3: =SUM(G3,H3) -> 0
B4: Vulnerability and Attack Surface Management | G4: ='Baseline Project Information'!O4 -> 0 | H4: ='Baseline Project Information'!P4 -> 0 | I4: =SUM(G4,H4) -> 0
B5: Cybersecurity Training | G5: ='Baseline Project Information'!O5 -> 0 | H5: ='Baseline Project Information'!P5 -> 0 | I5: =SUM(G5,H5) -> 0
B6: Cybersecurity Workforce Development Planning | G6: ='Baseline Project Information'!O6 -> 0 | H6: ='Baseline Project Information'!P6 -> 0 | I6: =SUM(G6,H6) -> 0
B7: Management and Administration (M&A) | D7: N/A | E7: N/A | F7: N/A | G7: ='Baseline Project Information'!O7 -> 0 | H7: ='Baseline Project Information'!P7 -> 0 | I7: =SUM(G7,H7) -> 0
G8: =SUBTOTAL(9,G2:G6) -> 0 | H8: =SUBTOTAL(9,H2:H6) -> 0 | I8: =SUBTOTAL(9,I2:I6) -> 0
